BEGIN:VCALENDAR
VERSION:2.0
PRODID:-//Eventin//Event Calendar//EN
CALSCALE:GREGORIAN
METHOD:PUBLISH
BEGIN:VEVENT
UID:3454dedb9bae058f58197db83d90c27d@psmuma.fi
SUMMARY:Kuntosaliharjoittelu
DESCRIPTION:Kuntosaliharjoittelu Suokadun palvelutalolla viikoittain torst
 aisin klo 18–19. Kuntosalin kevätkausi alkaa 8.1.2026\, joka jatkuu aina
  loppukevääseen asti 2026. Tiedustelut ja yhteydenotot ensisijaisesti sä
 hköpostilla Susanna Bergströmiin\, susanna.bergstrom@gmail.com tai soit
 tamalla 050 543 1343. Kuntosalilla ei ole erillistä ohjaajaa\, mutta läsn
 äolevat voivat ohjeistaa laitteiden käytössä.
LOCATION:Suokadun toimintakeskuksen kuntosali\, Suokatu 6\, 70100 Kuopio
DTSTAMP:20260420T092255Z
DTSTART:20260510T150000Z
DTEND:20260510T160000Z
END:VEVENT
END:VCALENDAR
